BEGIN:VCALENDAR
VERSION:2.0
PRODID:-//Cailin Creations - ECPv6.15.20//NONSGML v1.0//EN
CALSCALE:GREGORIAN
METHOD:PUBLISH
X-ORIGINAL-URL:https://cailincreations.com
X-WR-CALDESC:Events for Cailin Creations
REFRESH-INTERVAL;VALUE=DURATION:PT1H
X-Robots-Tag:noindex
X-PUBLISHED-TTL:PT1H
BEGIN:VTIMEZONE
TZID:America/Chicago
BEGIN:DAYLIGHT
TZOFFSETFROM:-0600
TZOFFSETTO:-0500
TZNAME:CDT
DTSTART:20250309T080000
END:DAYLIGHT
BEGIN:STANDARD
TZOFFSETFROM:-0500
TZOFFSETTO:-0600
TZNAME:CST
DTSTART:20251102T070000
END:STANDARD
BEGIN:DAYLIGHT
TZOFFSETFROM:-0600
TZOFFSETTO:-0500
TZNAME:CDT
DTSTART:20260308T080000
END:DAYLIGHT
BEGIN:STANDARD
TZOFFSETFROM:-0500
TZOFFSETTO:-0600
TZNAME:CST
DTSTART:20261101T070000
END:STANDARD
BEGIN:DAYLIGHT
TZOFFSETFROM:-0600
TZOFFSETTO:-0500
TZNAME:CDT
DTSTART:20270314T080000
END:DAYLIGHT
BEGIN:STANDARD
TZOFFSETFROM:-0500
TZOFFSETTO:-0600
TZNAME:CST
DTSTART:20271107T070000
END:STANDARD
END:VTIMEZONE
BEGIN:VEVENT
DTSTART;TZID=America/Chicago:20260620T100000
DTEND;TZID=America/Chicago:20260620T150000
DTSTAMP:20260424T053840
CREATED:20260218T003106Z
LAST-MODIFIED:20260218T003106Z
UID:4614-1781949600-1781967600@cailincreations.com
SUMMARY:Cranberry Blossom Fest 2026
DESCRIPTION:Join us for the Annual Cranberry Blossom Festival June 20th\, 2026 in Wisconsin Rapids\, WI. Wisconsin Rapids is in the heart of cranberry country and we are proud to celebrate where the berries begin. The festival is filled with “berry” fun events including\, live music\, a parade\, arts and crafts\, a carnival and of course culinary treats featuring Wisconsin’s #1 fruit crop\, the cranberry!
URL:https://cailincreations.com/event/cranberry-blossom-fest-2026/
LOCATION:Downtown Wisconsin Rapids – West Grand Ave\, West Grand Ave\, Wisconsin Rapids\, WI\, 54494\, United States
CATEGORIES:Waiting for Confirmation
ATTACH;FMTTYPE=image/png:https://cailincreations.com/wp-content/uploads/2023/01/CranberryBlossomFest-190x190-1.png
ORGANIZER;CN="Heart of Wisconsin Chamber of Commerce":MAILTO:cranberryblossomfestival@gmail.com
END:VEVENT
BEGIN:VEVENT
DTSTART;TZID=America/Chicago:20260822T080000
DTEND;TZID=America/Chicago:20260822T170000
DTSTAMP:20260424T053840
CREATED:20260217T211033Z
LAST-MODIFIED:20260302T171854Z
UID:4589-1787385600-1787418000@cailincreations.com
SUMMARY:Skybound Family Festival & All Day Breakfast 2026
DESCRIPTION:Get ready to soar into adventure at the Skybound Family Festival—a high-energy\, hands-on celebration of aviation\, STEM\, and community!\n\nThis one-of-a-kind event brings together airplanes\, rockets\, drones\, RC aircraft\, a Lifelink helicopter\, HAM radio demonstrations\, and so much more. From hot air balloon science experiments to interactive exhibits and innovation stations\, it’s a full day of discovery for kids and adults alike!\n  \nEvent Highlights \n\nHands-on STEM activities\nAir & Space exploration zones\nLive aircraft & helicopter displays\nModel Rocket Launch\nDrone demos & RC flying\nHAM radio communication\nHot air balloon science\nBounce Houses\nOur New Mining Sluice\nStuff a Stuffy- Take home a friend\, support a great cause for only $10!\nSanta-Summer Toy Workshop\nScavenger Hunt\nPetting Zoo- Snakes\, chinchillas\, farm animals & more!\nLocal vendors & family-focused businesses\n$5-Breakfast all Day\n\n  \nSupport a Great Cause\nThis is more than just a festival—it’s our annual fundraiser. Every vendor\, attendee\, and donation brings us closer to our goal. \n\nLet’s come together to celebrate curiosity\, community\, and compassion. Please help us make this year’s Skybound Festival unforgettable!\n\nFor more information\, contact us at info@discoveryedustation / 715-898-1196Let’s soar together!
URL:https://cailincreations.com/event/skybound-family-festival-all-day-breakfast/
LOCATION:Marshfield Municipal Airport\, 400 W 29th St\, Marshfield\, WI\, 54494\, United States
CATEGORIES:Waiting for Confirmation
ATTACH;FMTTYPE=image/jpeg:https://cailincreations.com/wp-content/uploads/2026/02/643501938_1506394028163443_4865827579922321543_n.jpg
ORGANIZER;CN="Discovery Education Station":MAILTO:discoveryedustation@gmail.com
END:VEVENT
BEGIN:VEVENT
DTSTART;TZID=America/Chicago:20260913T100000
DTEND;TZID=America/Chicago:20260913T150000
DTSTAMP:20260424T053840
CREATED:20260218T002700Z
LAST-MODIFIED:20260218T002700Z
UID:4611-1789293600-1789311600@cailincreations.com
SUMMARY:Downtown Grand Affair 2026
DESCRIPTION:Wisconsin Rapids celebrates the gorgeous autumn season with music\, food\, craft fair shopping\, a car show and more! All types of vendors are accepted including arts and crafts\, antiques\, food and farm market produce.
URL:https://cailincreations.com/event/downtown-grand-affair-2026/
LOCATION:Downtown Wisconsin Rapids – West Grand Ave\, West Grand Ave\, Wisconsin Rapids\, WI\, 54494\, United States
CATEGORIES:Waiting for Confirmation
ATTACH;FMTTYPE=image/png:https://cailincreations.com/wp-content/uploads/2023/06/302190374_5281762201905572_6742950138329361962_n.png
ORGANIZER;CN="Heart of Wisconsin Chamber of Commerce":MAILTO:cranberryblossomfestival@gmail.com
END:VEVENT
BEGIN:VEVENT
DTSTART;TZID=America/Chicago:20261003T090000
DTEND;TZID=America/Chicago:20261004T170000
DTSTAMP:20260424T053840
CREATED:20260217T201602Z
LAST-MODIFIED:20260217T201602Z
UID:4582-1791018000-1791133200@cailincreations.com
SUMMARY:Nekoosa Giant Pumpkin Fest 2026
DESCRIPTION:Nekoosa Giant Pumpkin Fest is a fall family festival\, with lots of fun for the entire family. Bring the family and enjoy lots of activities for kids (face painting\, pumpkin decorating\, carnival and more!)\, giant pumpkin weigh-off\, pumpkin rolling contest\, giant pumpkin drop\, and more! \nSat: 9-5pm \nSun: 9-4pm \n$4 Gate Fee| Ages 4 to 7 $1 \nKids 3 and Under FREE- On Site Parking $5 \nPark & Ride the Pumpkin Shuttle for FREE
URL:https://cailincreations.com/event/nekoosa-giant-pumpkin-fest-2026/
LOCATION:Riverside Park\, 916 Prospect Ave\, Nekoosa\, WI\, 54457\, United States
CATEGORIES:Waiting for Confirmation
ATTACH;FMTTYPE=image/png:https://cailincreations.com/wp-content/uploads/2024/03/large_logo.png
ORGANIZER;CN="Nekoosa Giant Pumpkin Fest":MAILTO:nekoosagiantpumpkinfest@gmail.com
END:VEVENT
BEGIN:VEVENT
DTSTART;TZID=America/Chicago:20261114T100000
DTEND;TZID=America/Chicago:20261115T150000
DTSTAMP:20260424T053840
CREATED:20260117T205733Z
LAST-MODIFIED:20260213T212543Z
UID:4551-1794650400-1794754800@cailincreations.com
SUMMARY:Holiday Shopping Expo 2026
DESCRIPTION:Get your Christmas shopping started early with this Great Vendor show featuring vendors from around the area\, raffle baskets to bid on and maybe a visit from Santa…
URL:https://cailincreations.com/event/2026-holiday-shopping-expo/
LOCATION:Hotel Mead\, 451 East Grand Eve\, Wisconsin Rapids\, United States\, 54494
CATEGORIES:Confirmed
ATTACH;FMTTYPE=image/jpeg:https://cailincreations.com/wp-content/uploads/2024/03/Scary-Scarecrow-Expo-2024.jpg
ORGANIZER;CN="JZS Helping Hand":MAILTO:jzshelpinghand@yahoo.com
END:VEVENT
END:VCALENDAR