BEGIN:VCALENDAR
VERSION:2.0
PRODID:-//Cailin Creations - ECPv6.15.20//NONSGML v1.0//EN
CALSCALE:GREGORIAN
METHOD:PUBLISH
X-ORIGINAL-URL:https://cailincreations.com
X-WR-CALDESC:Events for Cailin Creations
REFRESH-INTERVAL;VALUE=DURATION:PT1H
X-Robots-Tag:noindex
X-PUBLISHED-TTL:PT1H
BEGIN:VTIMEZONE
TZID:America/Chicago
BEGIN:DAYLIGHT
TZOFFSETFROM:-0600
TZOFFSETTO:-0500
TZNAME:CDT
DTSTART:20250309T080000
END:DAYLIGHT
BEGIN:STANDARD
TZOFFSETFROM:-0500
TZOFFSETTO:-0600
TZNAME:CST
DTSTART:20251102T070000
END:STANDARD
BEGIN:DAYLIGHT
TZOFFSETFROM:-0600
TZOFFSETTO:-0500
TZNAME:CDT
DTSTART:20260308T080000
END:DAYLIGHT
BEGIN:STANDARD
TZOFFSETFROM:-0500
TZOFFSETTO:-0600
TZNAME:CST
DTSTART:20261101T070000
END:STANDARD
BEGIN:DAYLIGHT
TZOFFSETFROM:-0600
TZOFFSETTO:-0500
TZNAME:CDT
DTSTART:20270314T080000
END:DAYLIGHT
BEGIN:STANDARD
TZOFFSETFROM:-0500
TZOFFSETTO:-0600
TZNAME:CST
DTSTART:20271107T070000
END:STANDARD
END:VTIMEZONE
BEGIN:VEVENT
DTSTART;TZID=America/Chicago:20261122T090000
DTEND;TZID=America/Chicago:20261122T150000
DTSTAMP:20260422T114719
CREATED:20260217T202553Z
LAST-MODIFIED:20260217T202655Z
UID:4584-1795338000-1795359600@cailincreations.com
SUMMARY:Tinsel Trail 2026
DESCRIPTION:Support local vendors by purchasing homemade items in this 250+ vendor craft show!\n100% of the $3 entrance fee will be reinvested back into Portage County. \nHeld at the Stevens Point Holiday Inn Convention Center with over 4\,000 in attendance.
URL:https://cailincreations.com/event/tinsel-trail-2026/
LOCATION:Holliday Inn Stevens Point\, 1001 Amber Ave\, Stevens Point\, WI\, 54481\, United States
CATEGORIES:Confirmed
ATTACH;FMTTYPE=image/png:https://cailincreations.com/wp-content/uploads/2024/12/Screenshot-2024-12-13-at-11.44.13 PM.png
ORGANIZER;CN="Junior Womens Club":MAILTO:stevenspointjwc@gmail.com
END:VEVENT
END:VCALENDAR