BEGIN:VCALENDAR
VERSION:2.0
PRODID:-//Cailin Creations - ECPv6.15.20//NONSGML v1.0//EN
CALSCALE:GREGORIAN
METHOD:PUBLISH
X-WR-CALNAME:Cailin Creations
X-ORIGINAL-URL:https://cailincreations.com
X-WR-CALDESC:Events for Cailin Creations
REFRESH-INTERVAL;VALUE=DURATION:PT1H
X-Robots-Tag:noindex
X-PUBLISHED-TTL:PT1H
BEGIN:VTIMEZONE
TZID:America/Chicago
BEGIN:DAYLIGHT
TZOFFSETFROM:-0600
TZOFFSETTO:-0500
TZNAME:CDT
DTSTART:20250309T080000
END:DAYLIGHT
BEGIN:STANDARD
TZOFFSETFROM:-0500
TZOFFSETTO:-0600
TZNAME:CST
DTSTART:20251102T070000
END:STANDARD
BEGIN:DAYLIGHT
TZOFFSETFROM:-0600
TZOFFSETTO:-0500
TZNAME:CDT
DTSTART:20260308T080000
END:DAYLIGHT
BEGIN:STANDARD
TZOFFSETFROM:-0500
TZOFFSETTO:-0600
TZNAME:CST
DTSTART:20261101T070000
END:STANDARD
BEGIN:DAYLIGHT
TZOFFSETFROM:-0600
TZOFFSETTO:-0500
TZNAME:CDT
DTSTART:20270314T080000
END:DAYLIGHT
BEGIN:STANDARD
TZOFFSETFROM:-0500
TZOFFSETTO:-0600
TZNAME:CST
DTSTART:20271107T070000
END:STANDARD
END:VTIMEZONE
BEGIN:VEVENT
DTSTART;TZID=America/Chicago:20260912T090000
DTEND;TZID=America/Chicago:20260912T150000
DTSTAMP:20260424T070726
CREATED:20260218T001239Z
LAST-MODIFIED:20260218T001239Z
UID:4606-1789203600-1789225200@cailincreations.com
SUMMARY:New London Fall Fest 2026
DESCRIPTION:The New London Area Chamber of Commerce invites you to participate as a vendor in the annual Fall Fest event on Saturday\, September 12\, 2026\, from 9 a.m. to 3 p.m. The anticipated attendance for the festival is approximately 7\,500+. This fantastic family day in New London offers a variety of activities including children’s entertainers\, petting zoo\, live music\, produce and a variety of food and craft vendor stands and the Chamber booth will have free samples of cheese and sausage.
URL:https://cailincreations.com/event/new-london-fall-fest-2026/
LOCATION:Werner Allen Road – Near Downtown New London\, Werner Allen Road\, New London\, WI\, 54961\, United States
CATEGORIES:Waiting for Confirmation
ATTACH;FMTTYPE=image/png:https://cailincreations.com/wp-content/uploads/2026/02/Screenshot-2026-02-17-at-6.12.17-PM.png
ORGANIZER;CN="New London Chamber of Commerce":MAILTO:director@newlondonchamber.com
END:VEVENT
END:VCALENDAR